BEGIN:VCALENDAR
VERSION:2.0
PRODID:-//wp-events-plugin.com//7.2.3.1//EN
TZID:Europe/Madrid
X-WR-TIMEZONE:Europe/Madrid
BEGIN:VEVENT
UID:4@ateneorepublicanorivas.org
DTSTART;TZID=Europe/Madrid:20230324T190000
DTEND;TZID=Europe/Madrid:20230324T214500
DTSTAMP:20230314T162227Z
URL:https://ateneorepublicanorivas.org/events/acto-feminista/
SUMMARY:ACTO FEMINISTA
DESCRIPTION:
ATTACH;FMTTYPE=image/jpeg:https://ateneorepublicanorivas.org/wp-content/up
 loads/2023/03/Cartel_ActoFeminista24Marzo_definitivo-scaled.jpg
LOCATION:SALON DE ACTOS DE LA CASA DE LA JUVENTUD PARQUE DE ASTURIAS (COVIB
 AR)\, PARQUE DE ASTURIAS (COVIBAR)\, RIVAS VACIAMADRID\, MADRID\, 28523\, 
 España
X-APPLE-STRUCTURED-LOCATION;VALUE=URI;X-ADDRESS=PARQUE DE ASTURIAS (COVIBAR
 )\, RIVAS VACIAMADRID\, MADRID\, 28523\, España;X-APPLE-RADIUS=100;X-TITL
 E=SALON DE ACTOS DE LA CASA DE LA JUVENTUD PARQUE DE ASTURIAS (COVIBAR):ge
 o:0,0
END:VEVENT
BEGIN:VTIMEZONE
TZID:Europe/Madrid
X-LIC-LOCATION:Europe/Madrid
BEGIN:STANDARD
DTSTART:20221030T020000
TZOFFSETFROM:+0200
TZOFFSETTO:+0100
TZNAME:CET
END:STANDARD
END:VTIMEZONE
END:VCALENDAR