BEGIN:VCALENDAR
VERSION:2.0
PRODID:-//wp-events-plugin.com//7.2.3.1//EN
TZID:Europe/Madrid
X-WR-TIMEZONE:Europe/Madrid
BEGIN:VEVENT
UID:36@ateneorepublicanorivas.org
DTSTART;TZID=Europe/Madrid:20241011T190000
DTEND;TZID=Europe/Madrid:20241011T213000
DTSTAMP:20240927T085137Z
URL:https://ateneorepublicanorivas.org/events/asamblea-general-extraordina
 ria-de-socios/
SUMMARY:ASAMBLEA GENERAL EXTRAORDINARIA DE SOCIOS
DESCRIPTION:CONVOCATORIA DE ASAMBLEA GENERAL EXTRAORDINARIA DE SOCIOS Y SOC
 IAS DEL ATENEO REPUBLICANO DE RIVAS\nDe acuerdo con lo dispuesto en los Es
 tatutos del Ateneo\, se convoca a los socios y\nsocias\, a la Asamblea Gen
 eral Extraordinaria que tendrá lugar el jueves\, 10 de octubre de 2024\, 
 a\nlas 19.00 horas en primera convocatoria y 19.30 en segunda\, en el Sal
 ón de Actos de la Casa de\nlas Asociaciones (Avda. Armando Rodríguez Val
 lina s/n. Covibar)\, con el siguiente\nORDEN DEL DÍA\n1) Renovación de l
 os siguientes cargos de la Junta Directiva: Presidente/a\,\nSecretario/a\,
  Tesorero/a\, Vocales (cuatro).\n2) Memoria de las actividades desarrollad
 as por el Ateneo durante el período de septiembre de\n2022 a septiembre d
 e 2024.\n3) Informe de Tesorería correspondiente al período de septiembr
 e de 2022 a septiembre de 2024\n4) Ruegos y preguntas.\nRivas\, 25 de sept
 iembre de 2024.\n&nbsp\;\nEl Secretario\nFirmado por BONILLA SOLIS RAMON -
  ***6209** el día 26/09/2024\ncon un certificado emitido por AC FNMT Usua
 rios\nVº Bº\nEl Presidente\nFirmado por ***0747** JOSE LUIS SANCHEZ-MIGA
 LLON (R:\n****5006*) el día 26/09/2024 con un certificado emitido por AF 
 FNMT\n&nbsp\;
CATEGORIES:ASAMBLEA
LOCATION:Salón de Actos de la Casa de Asociaciones.\, Avda. Armando Rodrí
 guez Vallina s/.- 28523 Rivas-Vaciamadrid\, RIVAS VACIAMADRID\, Madrid\, 2
 8523\, Comunidad de Madrid\, España
X-APPLE-STRUCTURED-LOCATION;VALUE=URI;X-ADDRESS=Avda. Armando Rodríguez Va
 llina s/.- 28523 Rivas-Vaciamadrid\, RIVAS VACIAMADRID\, Madrid\, 28523\, 
 Comunidad de Madrid\, España;X-APPLE-RADIUS=100;X-TITLE=Salón de Actos d
 e la Casa de Asociaciones.:geo:0,0
END:VEVENT
BEGIN:VTIMEZONE
TZID:Europe/Madrid
X-LIC-LOCATION:Europe/Madrid
BEGIN:DAYLIGHT
DTSTART:20240331T030000
TZOFFSETFROM:+0100
TZOFFSETTO:+0200
TZNAME:CEST
END:DAYLIGHT
END:VTIMEZONE
END:VCALENDAR