BEGIN:VCALENDAR
VERSION:2.0
PRODID:-//wp-events-plugin.com//7.2.3.1//EN
TZID:Europe/Madrid
X-WR-TIMEZONE:Europe/Madrid
BEGIN:VEVENT
UID:44@ateneorepublicanorivas.org
DTSTART;TZID=Europe/Madrid:20250113T193000
DTEND;TZID=Europe/Madrid:20250113T203000
DTSTAMP:20241227T173614Z
URL:https://ateneorepublicanorivas.org/events/asamblea-general-ordinaria-d
 e-socios-y-socias/
SUMMARY:ASAMBLEA GENERAL ORDINARIA DE SOCIOS Y SOCIAS
DESCRIPTION:CONVOCATORIA DE ASAMBLEA GENERAL ORDINARIA DE SOCIOS Y SOCIAS\n
 Dando cumplimiento a las previsiones de nuestros Estatutos\, en la Sala 6 
 de la Casa de Asociaciones (Avda. Armando Rodríguez Vallina s/n. Covibar)
 \, el lunes 13 de enero\, en horario de 19.30 en primera convocatoria y 20
 .00 h en segunda\, se convoca Asamblea General Ordinaria de socios y socia
 s para desarrollar el siguiente\nORDEN DEL DIA\n1) Exposición\, discusió
 n y aprobación si procede de la Memoria de Actividades 2024.\n2) Exposici
 ón\, discusión y aprobación si procede del Informe de Cuentas correspon
 diente al ejercicio 2024.\n3) Ruegos y preguntas.
CATEGORIES:ASAMBLEA
LOCATION:Sala 6 de la Casa de Asociaciones.\, Avda. Armando Rodríguez Vall
 ina s/n. Covibar\, RIVAS-VACIAMADRID \, COMUNIDAD DE MADRID\, 28523\, COMU
 NIDAD DE MADRID\, España
X-APPLE-STRUCTURED-LOCATION;VALUE=URI;X-ADDRESS=Avda. Armando Rodríguez Va
 llina s/n. Covibar\, RIVAS-VACIAMADRID \, COMUNIDAD DE MADRID\, 28523\, CO
 MUNIDAD DE MADRID\, España;X-APPLE-RADIUS=100;X-TITLE=Sala 6 de la Casa d
 e Asociaciones.:geo:0,0
END:VEVENT
BEGIN:VTIMEZONE
TZID:Europe/Madrid
X-LIC-LOCATION:Europe/Madrid
BEGIN:STANDARD
DTSTART:20241027T020000
TZOFFSETFROM:+0200
TZOFFSETTO:+0100
TZNAME:CET
END:STANDARD
END:VTIMEZONE
END:VCALENDAR