BEGIN:VCALENDAR
VERSION:2.0
PRODID:-//wp-events-plugin.com//7.2.3.1//EN
TZID:Europe/Madrid
X-WR-TIMEZONE:Europe/Madrid
BEGIN:VEVENT
UID:64@ateneorepublicanorivas.org
DTSTART;TZID=Europe/Madrid:20251024T190000
DTEND;TZID=Europe/Madrid:20251024T210000
DTSTAMP:20251012T154505Z
URL:https://ateneorepublicanorivas.org/events/cesar-jara-presenta-su-novel
 a-en-rivas/
SUMMARY:César Jara presenta su novela en Rivas
DESCRIPTION:l próximo viernes 24 de octubre\, el veterano periodista Césa
 r Jara\, presentará la novela ‘Los músicos de El Campesino’ (Ed. Cua
 dranta\, 2025) en la Casa de Asociaciones de Rivas (Avenida Armando Rodrí
 guez Vallina S/N\, Covibar). El acto comenzará a las 19h.\n\nEl libro cue
 nta la historia de un joven soldado valenciano\, músico\, que durante la 
 guerra de España se une a la banda de música de la División 46\, mandad
 a por el mítico El Campesino. Sus páginas suponen una incursión en la h
 istoria más importante de la España del siglo XX.
ATTACH;FMTTYPE=image/jpeg:https://ateneorepublicanorivas.org/wp-content/up
 loads/2025/10/Cartel-cesar-jara.jpeg
CATEGORIES:PRESENTACION DEL LIBRO
END:VEVENT
BEGIN:VTIMEZONE
TZID:Europe/Madrid
X-LIC-LOCATION:Europe/Madrid
BEGIN:DAYLIGHT
DTSTART:20250330T030000
TZOFFSETFROM:+0100
TZOFFSETTO:+0200
TZNAME:CEST
END:DAYLIGHT
END:VTIMEZONE
END:VCALENDAR