BEGIN:VCALENDAR
VERSION:2.0
PRODID:-//wp-events-plugin.com//7.2.3.1//EN
TZID:Europe/Madrid
X-WR-TIMEZONE:Europe/Madrid
BEGIN:VEVENT
UID:65@ateneorepublicanorivas.org
DTSTART;TZID=Europe/Madrid:20251028T110000
DTEND;TZID=Europe/Madrid:20251028T110000
DTSTAMP:20251012T154926Z
URL:https://ateneorepublicanorivas.org/events/charla-sobre-republica-y-rep
 ublicanismo-en-arganda/
SUMMARY:Charla sobre República y Republicanismo en Arganda
DESCRIPTION:
ATTACH;FMTTYPE=image/jpeg:https://ateneorepublicanorivas.org/wp-content/up
 loads/2025/10/Charla-Arganda.jpeg
CATEGORIES:CHARLA-DEBATE
LOCATION:CENTRO CULTURAL PILAR MIRÓ\, C/Pablo Iglesias\, 1\, Arganda del R
 ey\, Madrid\, España
X-APPLE-STRUCTURED-LOCATION;VALUE=URI;X-ADDRESS=C/Pablo Iglesias\, 1\, Arga
 nda del Rey\, Madrid\, España;X-APPLE-RADIUS=100;X-TITLE=CENTRO CULTURAL 
 PILAR MIRÓ:geo:0,0
END:VEVENT
BEGIN:VTIMEZONE
TZID:Europe/Madrid
X-LIC-LOCATION:Europe/Madrid
BEGIN:STANDARD
DTSTART:20251026T020000
TZOFFSETFROM:+0200
TZOFFSETTO:+0100
TZNAME:CET
END:STANDARD
END:VTIMEZONE
END:VCALENDAR