BEGIN:VCALENDAR
VERSION:2.0
PRODID:-//wp-events-plugin.com//7.2.3.1//EN
TZID:Europe/Madrid
X-WR-TIMEZONE:Europe/Madrid
BEGIN:VEVENT
UID:29@ateneorepublicanorivas.org
DTSTART;TZID=Europe/Madrid:20240426T190000
DTEND;TZID=Europe/Madrid:20240426T220000
DTSTAMP:20240424T191621Z
URL:https://ateneorepublicanorivas.org/events/cine-social/
SUMMARY:CINE SOCIAL: 'LA TRINCHERA INFINITA'
DESCRIPTION:
CATEGORIES:CHARLA-DEBATE,cineforum
LOCATION:Centro Cultural Federico García Lorca. Sala Marcos Ana\, Pl. de l
 a Constitución s/n. Rivas-Vaciamadrid. \, RIVAS VACIAMADRID\, Comunidad d
 e Madrid\, 28523\, España
X-APPLE-STRUCTURED-LOCATION;VALUE=URI;X-ADDRESS=Pl. de la Constitución s/n
 . Rivas-Vaciamadrid. \, RIVAS VACIAMADRID\, Comunidad de Madrid\, 28523\, 
 España;X-APPLE-RADIUS=100;X-TITLE=Centro Cultural Federico García Lorca.
  Sala Marcos Ana:geo:0,0
END:VEVENT
BEGIN:VTIMEZONE
TZID:Europe/Madrid
X-LIC-LOCATION:Europe/Madrid
BEGIN:DAYLIGHT
DTSTART:20240331T030000
TZOFFSETFROM:+0100
TZOFFSETTO:+0200
TZNAME:CEST
END:DAYLIGHT
END:VTIMEZONE
END:VCALENDAR