BEGIN:VCALENDAR
VERSION:2.0
PRODID:-//wp-events-plugin.com//7.2.3.1//EN
TZID:Europe/Madrid
X-WR-TIMEZONE:Europe/Madrid
BEGIN:VEVENT
UID:52@ateneorepublicanorivas.org
DTSTART;TZID=Europe/Madrid:20250207T193000
DTEND;TZID=Europe/Madrid:20250207T193000
DTSTAMP:20250208T105757Z
URL:https://ateneorepublicanorivas.org/events/cine-y-memoria/
SUMMARY:CINE Y MEMORIA
DESCRIPTION:
CATEGORIES:CHARLA-DEBATE,cineforum
LOCATION:Sala Marcos Ana. CC García Lorca\, CC. García Lorca. Pl. de la C
 onstitución s/\, RIVAS VACIAMADRID\, Madrid\, 28523\, Madrid\, España
X-APPLE-STRUCTURED-LOCATION;VALUE=URI;X-ADDRESS=CC. García Lorca. Pl. de l
 a Constitución s/\, RIVAS VACIAMADRID\, Madrid\, 28523\, Madrid\, España
 ;X-APPLE-RADIUS=100;X-TITLE=Sala Marcos Ana. CC García Lorca:geo:0,0
END:VEVENT
BEGIN:VTIMEZONE
TZID:Europe/Madrid
X-LIC-LOCATION:Europe/Madrid
BEGIN:STANDARD
DTSTART:20241027T020000
TZOFFSETFROM:+0200
TZOFFSETTO:+0100
TZNAME:CET
END:STANDARD
END:VTIMEZONE
END:VCALENDAR