BEGIN:VCALENDAR
VERSION:2.0
PRODID:-//wp-events-plugin.com//7.2.3.1//EN
TZID:Europe/Madrid
X-WR-TIMEZONE:Europe/Madrid
BEGIN:VEVENT
UID:86@ateneorepublicanorivas.org
DTSTART;TZID=Europe/Madrid:20260429T070000
DTEND;TZID=Europe/Madrid:20260429T090000
DTSTAMP:20260420T095548Z
URL:https://ateneorepublicanorivas.org/events/debatimos-sobre-monarquia-vs
 -republica-en-el-cine-social-con-una-pelicula-sobre-clara-campoamor/
SUMMARY:Debatimos sobre 'Monarquía vs República' en el Cine Social con un
 a película sobre Clara Campoamor
DESCRIPTION:El próximo 29 de abril\, el Ateneo Republicano de Rivas partic
 ipará en una nueva sesión del Ciclo de Cine Social 2026\, una iniciativa
  cultural impulsada por entidades del municipio que busca fomentar el aná
 lisis y el debate en torno a cuestiones sociales de actualidad. El acto co
 menzará a las 19:00 h. en la sala Marcos Ana del Centro Cultural Federico
  García Lorca (Plaza de la Constitución s/n).\n\nEn esta ocasión\, la j
 ornada girará en torno al debate “Monarquía vs República” e incluir
 á la proyección de la película Clara Campoamor\, la mujer olvidada\, di
 rigida por Laura Mañá y protagonizada por Elvira Mínguez y Antonio de l
 a Torre.
ATTACH;FMTTYPE=image/jpeg:https://ateneorepublicanorivas.org/wp-content/up
 loads/2026/04/Ciclo-cine-social-2026-ateneo.jpg
CATEGORIES:cineforum
LOCATION:Sala Marcos Ana. CC García Lorca.\, Pl. de la Constitución s/n\,
  Rivas Vaciamadrid\, Comunidad de Madrid\, 28523\, España
X-APPLE-STRUCTURED-LOCATION;VALUE=URI;X-ADDRESS=Pl. de la Constitución s/n
 \, Rivas Vaciamadrid\, Comunidad de Madrid\, 28523\, España;X-APPLE-RADIU
 S=100;X-TITLE=Sala Marcos Ana. CC García Lorca.:geo:0,0
END:VEVENT
BEGIN:VTIMEZONE
TZID:Europe/Madrid
X-LIC-LOCATION:Europe/Madrid
BEGIN:DAYLIGHT
DTSTART:20260329T030000
TZOFFSETFROM:+0100
TZOFFSETTO:+0200
TZNAME:CEST
END:DAYLIGHT
END:VTIMEZONE
END:VCALENDAR