BEGIN:VCALENDAR
VERSION:2.0
PRODID:-//wp-events-plugin.com//7.2.3.1//EN
TZID:Europe/Madrid
X-WR-TIMEZONE:Europe/Madrid
BEGIN:VEVENT
UID:50@ateneorepublicanorivas.org
DTSTART;TZID=Europe/Madrid:20250202T110000
DTEND;TZID=Europe/Madrid:20250202T110000
DTSTAMP:20250203T174149Z
URL:https://ateneorepublicanorivas.org/events/defensa-de-la-sanidad-public
 a/
SUMMARY:DEFENSA DE LA SANIDAD PUBLICA
DESCRIPTION:
CATEGORIES:Fiesta
LOCATION:Parcela en c/ Lolo Rico\, C/ Lolo Rico s/n (frente a Centro Comerc
 ial). \, RIVAS VACIAMADRID\, Madrid\, 28523\, Madrid\, España
X-APPLE-STRUCTURED-LOCATION;VALUE=URI;X-ADDRESS=C/ Lolo Rico s/n (frente a 
 Centro Comercial). \, RIVAS VACIAMADRID\, Madrid\, 28523\, Madrid\, Españ
 a;X-APPLE-RADIUS=100;X-TITLE=Parcela en c/ Lolo Rico:geo:0,0
END:VEVENT
BEGIN:VTIMEZONE
TZID:Europe/Madrid
X-LIC-LOCATION:Europe/Madrid
BEGIN:STANDARD
DTSTART:20241027T020000
TZOFFSETFROM:+0200
TZOFFSETTO:+0100
TZNAME:CET
END:STANDARD
END:VTIMEZONE
END:VCALENDAR