BEGIN:VCALENDAR
VERSION:2.0
PRODID:-//wp-events-plugin.com//7.2.3.1//EN
TZID:Europe/Madrid
X-WR-TIMEZONE:Europe/Madrid
BEGIN:VEVENT
UID:12@ateneorepublicanorivas.org
DTSTART;TZID=Europe/Madrid:20230909T200000
DTEND;TZID=Europe/Madrid:20230909T230000
DTSTAMP:20230826T190604Z
URL:https://ateneorepublicanorivas.org/events/el-ateneo-estara-en-la-fiest
 a-solidaria/
SUMMARY:EL ATENEO EN LA FIESTA SOLIDARIA DE PABLO IGLESIAS
DESCRIPTION:
END:VEVENT
BEGIN:VTIMEZONE
TZID:Europe/Madrid
X-LIC-LOCATION:Europe/Madrid
BEGIN:DAYLIGHT
DTSTART:20230326T030000
TZOFFSETFROM:+0100
TZOFFSETTO:+0200
TZNAME:CEST
END:DAYLIGHT
END:VTIMEZONE
END:VCALENDAR