BEGIN:VCALENDAR
VERSION:2.0
PRODID:-//wp-events-plugin.com//7.2.3.1//EN
TZID:Europe/Madrid
X-WR-TIMEZONE:Europe/Madrid
BEGIN:VEVENT
UID:32@ateneorepublicanorivas.org
DTSTART;TZID=Europe/Madrid:20240518T190000
DTEND;TZID=Europe/Madrid:20240518T210000
DTSTAMP:20240519T161005Z
URL:https://ateneorepublicanorivas.org/events/el-ateneo-un-ano-mas-en-las-
 fiestas-locales-de-rivas/
SUMMARY:EL ATENEO ESTARÁ PRESENTE EN LAS FIESTAS LOCALES DE RIVAS 2024
DESCRIPTION:El Ateneo Republicano de Rivas\, también en 2024 estará prese
 nte en las fiestas locales de mayo. El día 18 (sábado) instalaremos una 
 mesa informativa en las instalaciones que tiene la Concejalía de Particip
 ación Ciudadana en el Recinto Ferial Miguel Ríos.
CATEGORIES:Fiesta
LOCATION:Espacio ferial Miguel Ríos\, Paseo Alicia Alonso. Edificio 3.\, R
 ivas Vaciamadrid\, Madrid\, 28523\, Comunidad de Madrid\, España
X-APPLE-STRUCTURED-LOCATION;VALUE=URI;X-ADDRESS=Paseo Alicia Alonso. Edific
 io 3.\, Rivas Vaciamadrid\, Madrid\, 28523\, Comunidad de Madrid\, España
 ;X-APPLE-RADIUS=100;X-TITLE=Espacio ferial Miguel Ríos:geo:0,0
END:VEVENT
BEGIN:VTIMEZONE
TZID:Europe/Madrid
X-LIC-LOCATION:Europe/Madrid
BEGIN:DAYLIGHT
DTSTART:20240331T030000
TZOFFSETFROM:+0100
TZOFFSETTO:+0200
TZNAME:CEST
END:DAYLIGHT
END:VTIMEZONE
END:VCALENDAR