BEGIN:VCALENDAR
VERSION:2.0
PRODID:-//wp-events-plugin.com//7.2.3.1//EN
TZID:Europe/Madrid
X-WR-TIMEZONE:Europe/Madrid
BEGIN:VEVENT
UID:27@ateneorepublicanorivas.org
DTSTART;TZID=Europe/Madrid:20240414T091500
DTEND;TZID=Europe/Madrid:20240414T160000
DTSTAMP:20240407T190752Z
URL:https://ateneorepublicanorivas.org/events/fiesta-republicana-unitaria-
 premios-ateneo-2024/
SUMMARY:FIESTA REPUBLICANA UNITARIA. PREMIOS ATENEO 2024
DESCRIPTION:
ATTACH;FMTTYPE=image/jpeg:https://ateneorepublicanorivas.org/wp-content/up
 loads/2024/04/PROGRAMA_ENTREGA_PREMIOS_DOMINGO-14-DE-ABRIL.png
CATEGORIES:Fiesta
LOCATION:LA CASA+GRANDE\, RIVAS VACIAMADRID. JUNTO A ESTACION DEL METRO "RI
 VAS VACIAMADRID" (LÍNEA 9)\, RIVAS VACIAMADRID (CASCO ANTIGUO DEL PUEBLO)
 \, COMUNIDAD DE MADRID\, 28523\, España
X-APPLE-STRUCTURED-LOCATION;VALUE=URI;X-ADDRESS=RIVAS VACIAMADRID. JUNTO A 
 ESTACION DEL METRO \"RIVAS VACIAMADRID\" (LÍNEA 9)\, RIVAS VACIAMADRID (C
 ASCO ANTIGUO DEL PUEBLO)\, COMUNIDAD DE MADRID\, 28523\, España;X-APPLE-R
 ADIUS=100;X-TITLE=LA CASA+GRANDE:geo:0,0
END:VEVENT
BEGIN:VTIMEZONE
TZID:Europe/Madrid
X-LIC-LOCATION:Europe/Madrid
BEGIN:DAYLIGHT
DTSTART:20240331T030000
TZOFFSETFROM:+0100
TZOFFSETTO:+0200
TZNAME:CEST
END:DAYLIGHT
END:VTIMEZONE
END:VCALENDAR