BEGIN:VCALENDAR
VERSION:2.0
PRODID:-//wp-events-plugin.com//7.2.3.1//EN
TZID:Europe/Madrid
X-WR-TIMEZONE:Europe/Madrid
BEGIN:VEVENT
UID:55@ateneorepublicanorivas.org
DTSTART;TZID=Europe/Madrid;VALUE=DATE:20250405
DTEND;TZID=Europe/Madrid;VALUE=DATE:20250415
DTSTAMP:20250402T204238Z
URL:https://ateneorepublicanorivas.org/events/fiesta-republicana-unitaria-
 y-jornadas-republicanas/
SUMMARY:FIESTA REPUBLICANA UNITARIA Y JORNADAS REPUBLICANAS
DESCRIPTION: 
ATTACH;FMTTYPE=image/jpeg:https://ateneorepublicanorivas.org/wp-content/up
 loads/2025/04/PROGRAMA_ACTIVIDADES_CONJUNTAS_2.png
CATEGORIES:CHARLA-DEBATE,Fiesta
LOCATION:CASA DE ASOCIACIONES DEL BARRIO OESTE\, Avda. Armando Rodriguez Va
 llina s/n. Covibar\, RIVAS VACIAMADRID\, Madrid\, 28523\, Borrador\, Espa
 ña
X-APPLE-STRUCTURED-LOCATION;VALUE=URI;X-ADDRESS=Avda. Armando Rodriguez Val
 lina s/n. Covibar\, RIVAS VACIAMADRID\, Madrid\, 28523\, Borrador\, Españ
 a;X-APPLE-RADIUS=100;X-TITLE=CASA DE ASOCIACIONES DEL BARRIO OESTE:geo:0,0
END:VEVENT
BEGIN:VTIMEZONE
TZID:Europe/Madrid
X-LIC-LOCATION:Europe/Madrid
BEGIN:DAYLIGHT
DTSTART:20250330T030000
TZOFFSETFROM:+0100
TZOFFSETTO:+0200
TZNAME:CEST
END:DAYLIGHT
END:VTIMEZONE
END:VCALENDAR