BEGIN:VCALENDAR
VERSION:2.0
PRODID:-//wp-events-plugin.com//7.2.3.1//EN
TZID:Europe/Madrid
X-WR-TIMEZONE:Europe/Madrid
BEGIN:VEVENT
UID:35@ateneorepublicanorivas.org
DTSTART;TZID=Europe/Madrid:20240907T190000
DTEND;TZID=Europe/Madrid:20240907T210000
DTSTAMP:20240903T154454Z
URL:https://ateneorepublicanorivas.org/events/fiesta-solidaria-lapablo-202
 4/
SUMMARY:FIESTA SOLIDARIA LAPABLO 2024
DESCRIPTION:El Ateneo Republicano de Rivas\, como en ediciones anteriores\,
  estará presente en la Fiesta Solidaria que se celebrará los días 6\, 7
   y 8 de septiembre en la Urbanización Pablo Iglesias de Rivas. La prese
 ncia del Ateneo será mediante la instalación de una mesa informativa y d
 e venta de merchandising el sábado\, 7 de septiembre\, de 19 a 21 horas.\
 n\n
CATEGORIES:Fiesta
LOCATION:Plaza  Copima. Urbanización Pablo Iglesias\, Plaza Copima. Urbani
 zación Pablo Iglesias. Rivas-Vaciamadrid\, RIVAS VACIAMADRID\, Madrid\, 2
 8523\, España
X-APPLE-STRUCTURED-LOCATION;VALUE=URI;X-ADDRESS=Plaza Copima. Urbanización
  Pablo Iglesias. Rivas-Vaciamadrid\, RIVAS VACIAMADRID\, Madrid\, 28523\, 
 España;X-APPLE-RADIUS=100;X-TITLE=Plaza  Copima. Urbanización Pablo Igle
 sias:geo:0,0
END:VEVENT
BEGIN:VTIMEZONE
TZID:Europe/Madrid
X-LIC-LOCATION:Europe/Madrid
BEGIN:DAYLIGHT
DTSTART:20240331T030000
TZOFFSETFROM:+0100
TZOFFSETTO:+0200
TZNAME:CEST
END:DAYLIGHT
END:VTIMEZONE
END:VCALENDAR