BEGIN:VCALENDAR
VERSION:2.0
PRODID:-//wp-events-plugin.com//7.2.3.1//EN
TZID:Europe/Madrid
X-WR-TIMEZONE:Europe/Madrid
BEGIN:VEVENT
UID:73@ateneorepublicanorivas.org
DTSTART;TZID=Europe/Madrid:20251108T200000
DTEND;TZID=Europe/Madrid:20251108T234500
DTSTAMP:20251104T074611Z
URL:https://ateneorepublicanorivas.org/events/ii-festival-republicano-de-m
 usica/
SUMMARY:II FESTIVAL REPUBLICANO DE MUSICA
DESCRIPTION:
CATEGORIES:PRESENTACION DEL LIBRO
LOCATION:SALA MARCOS ANA. CC GARCIA LORCA\, PL. DE LA CONSTITUCION S/N\, RI
 VAS VACIAMADRID\, MADRID\, 28523\, COMUNIDAD DE MADRID\, España
X-APPLE-STRUCTURED-LOCATION;VALUE=URI;X-ADDRESS=PL. DE LA CONSTITUCION S/N\
 , RIVAS VACIAMADRID\, MADRID\, 28523\, COMUNIDAD DE MADRID\, España;X-APP
 LE-RADIUS=100;X-TITLE=SALA MARCOS ANA. CC GARCIA LORCA:geo:0,0
END:VEVENT
BEGIN:VTIMEZONE
TZID:Europe/Madrid
X-LIC-LOCATION:Europe/Madrid
BEGIN:STANDARD
DTSTART:20251026T020000
TZOFFSETFROM:+0200
TZOFFSETTO:+0100
TZNAME:CET
END:STANDARD
END:VTIMEZONE
END:VCALENDAR