BEGIN:VCALENDAR
VERSION:2.0
PRODID:-//wp-events-plugin.com//7.2.3.1//EN
TZID:Europe/Madrid
X-WR-TIMEZONE:Europe/Madrid
BEGIN:VEVENT
UID:40@ateneorepublicanorivas.org
DTSTART;TZID=Europe/Madrid:20241214T120000
DTEND;TZID=Europe/Madrid:20241214T140000
DTSTAMP:20241203T163408Z
URL:https://ateneorepublicanorivas.org/events/infantiles-del-ateneo-miedit
 is/
SUMMARY:INFANTILES DEL ATENEO: MIEDITIS
DESCRIPTION:SABADO FAMILIAR EN EL ATENEO 🍿 🎈🧹🧙🏾‍♀\n¿Te 
 Imaginas qué pasaría si una ovejita llama a la puerta de un lobo hambrie
 nto? o que\, ¿tu ciudad estuviera llena de monstruos y nadie se atreviera
  a salir a la calle?\, o que ¿tu habitación se convirtiera en el mundo e
 ntero? Todas las respuestas y muchas más las encontrarás en “Historias
  musicadas”\, donde además cada cuento tiene su ritmo y sonido.\nOs esp
 eramos con vuestro disfraz más terrorífico.\nENTRADA LIBRE CON APORTACI
 ÓN VOLUNTARIA AL ARTISTA
CATEGORIES:MIMO
LOCATION:Salón de Actos de la Casa de la Juventud Parque de Asturias\, Par
 que de Asturias. Covibar\, RIVAS VACIAMADRID\, COMUNIDAD DE MADRID\, 28523
 \, España
X-APPLE-STRUCTURED-LOCATION;VALUE=URI;X-ADDRESS=Parque de Asturias. Covibar
 \, RIVAS VACIAMADRID\, COMUNIDAD DE MADRID\, 28523\, España;X-APPLE-RADIU
 S=100;X-TITLE=Salón de Actos de la Casa de la Juventud Parque de Asturias
 :geo:0,0
END:VEVENT
BEGIN:VTIMEZONE
TZID:Europe/Madrid
X-LIC-LOCATION:Europe/Madrid
BEGIN:STANDARD
DTSTART:20241027T020000
TZOFFSETFROM:+0200
TZOFFSETTO:+0100
TZNAME:CET
END:STANDARD
END:VTIMEZONE
END:VCALENDAR