BEGIN:VCALENDAR
VERSION:2.0
PRODID:-//wp-events-plugin.com//7.2.3.1//EN
TZID:Europe/Madrid
X-WR-TIMEZONE:Europe/Madrid
BEGIN:VEVENT
UID:56@ateneorepublicanorivas.org
DTSTART;TZID=Europe/Madrid:20250409T190000
DTEND;TZID=Europe/Madrid:20250409T221500
DTSTAMP:20250414T083628Z
URL:https://ateneorepublicanorivas.org/events/jornadas-republicanas-coloqu
 io-con-pisarello/
SUMMARY:JORNADAS REPUBLICANAS: COLOQUIO CON PISARELLO
DESCRIPTION:
CATEGORIES:CHARLA-DEBATE,Fiesta
LOCATION:Salón de Actos de la Casa de Asociaciones\, Avda. Armando Rodrigu
 ez Vallina s/n. Covibar\, RIVAS VACIAMADRID\, Madrid\, 28523\, Comunidad d
 e Madrid\, España
X-APPLE-STRUCTURED-LOCATION;VALUE=URI;X-ADDRESS=Avda. Armando Rodriguez Val
 lina s/n. Covibar\, RIVAS VACIAMADRID\, Madrid\, 28523\, Comunidad de Madr
 id\, España;X-APPLE-RADIUS=100;X-TITLE=Salón de Actos de la Casa de Asoc
 iaciones:geo:0,0
END:VEVENT
BEGIN:VTIMEZONE
TZID:Europe/Madrid
X-LIC-LOCATION:Europe/Madrid
BEGIN:DAYLIGHT
DTSTART:20250330T030000
TZOFFSETFROM:+0100
TZOFFSETTO:+0200
TZNAME:CEST
END:DAYLIGHT
END:VTIMEZONE
END:VCALENDAR