BEGIN:VCALENDAR
VERSION:2.0
PRODID:-//wp-events-plugin.com//7.2.3.1//EN
TZID:Europe/Madrid
X-WR-TIMEZONE:Europe/Madrid
BEGIN:VEVENT
UID:57@ateneorepublicanorivas.org
DTSTART;TZID=Europe/Madrid:20250414T180000
DTEND;TZID=Europe/Madrid:20250414T200000
DTSTAMP:20250414T085758Z
URL:https://ateneorepublicanorivas.org/events/jornadas-republicanas-pasaca
 lles-por-el-parque-lineal/
SUMMARY:JORNADAS REPUBLICANAS: PASACALLES POR EL PARQUE LINEAL
DESCRIPTION:[video width="1080" height="1920" mp4="https://ateneorepublican
 orivas.org/wp-content/uploads/2025/04/Reel_republica_haremos-1.mp4"][/vide
 o]
CATEGORIES:Fiesta
LOCATION:Parque Lineal 14 de abril. Covibar.\, Metro Rivas-Urbanizaciones\,
  RIVAS VACIAMADRID\, Madrid\, 28523\, Madrid\, España
X-APPLE-STRUCTURED-LOCATION;VALUE=URI;X-ADDRESS=Metro Rivas-Urbanizaciones\
 , RIVAS VACIAMADRID\, Madrid\, 28523\, Madrid\, España;X-APPLE-RADIUS=100
 ;X-TITLE=Parque Lineal 14 de abril. Covibar.:geo:0,0
END:VEVENT
BEGIN:VTIMEZONE
TZID:Europe/Madrid
X-LIC-LOCATION:Europe/Madrid
BEGIN:DAYLIGHT
DTSTART:20250330T030000
TZOFFSETFROM:+0100
TZOFFSETTO:+0200
TZNAME:CEST
END:DAYLIGHT
END:VTIMEZONE
END:VCALENDAR