BEGIN:VCALENDAR
VERSION:2.0
PRODID:-//wp-events-plugin.com//7.2.3.1//EN
TZID:Europe/Madrid
X-WR-TIMEZONE:Europe/Madrid
BEGIN:VEVENT
UID:59@ateneorepublicanorivas.org
DTSTART;TZID=Europe/Madrid:20250615T000000
DTEND;TZID=Europe/Madrid:20250615T000000
DTSTAMP:20250625T065738Z
URL:https://ateneorepublicanorivas.org/events/marcha-republicana-15-j/
SUMMARY:MARCHA REPUBLICANA 15 J
DESCRIPTION:  
ATTACH;FMTTYPE=image/jpeg:https://ateneorepublicanorivas.org/wp-content/up
 loads/2025/06/Cartel_01_Marcha15J.png
CATEGORIES:Manifestacion
END:VEVENT
BEGIN:VTIMEZONE
TZID:Europe/Madrid
X-LIC-LOCATION:Europe/Madrid
BEGIN:DAYLIGHT
DTSTART:20250330T030000
TZOFFSETFROM:+0100
TZOFFSETTO:+0200
TZNAME:CEST
END:DAYLIGHT
END:VTIMEZONE
END:VCALENDAR