BEGIN:VCALENDAR
VERSION:2.0
PRODID:-//wp-events-plugin.com//7.2.3.1//EN
TZID:Europe/Madrid
X-WR-TIMEZONE:Europe/Madrid
BEGIN:VEVENT
UID:87@ateneorepublicanorivas.org
DTSTART;TZID=Europe/Madrid:20260426T010000
DTEND;TZID=Europe/Madrid:20260426T010000
DTSTAMP:20260420T095936Z
URL:https://ateneorepublicanorivas.org/events/marina-lobo-fernando-morano-
 y-jose-cabrera-presentan-el-show-manual-de-decadencia/
SUMMARY:Marina Lobo\, Fernando Moraño y José Cabrera presentan el show 
 “Manual de Decadencia”
DESCRIPTION:Los guionistas y cómicos Marina Lobo\, Fernando Moraño y Jos
 é Cabrera traerán a Rivas el próximo domingo 26 de abril\, a las 13:00 
 h.\, su show Manual de Decadencia\, invitados por el Ateneo Republicano de
  Rivas. Esta actividad cultural se enmarca dentro de la programación del 
 ‘Abril republicano’ que ha preparado la asociación ripense.\n\nLos tr
 es guionistas y colaboradores del programa Hora Veintipico\, de Cadena SER
 \, acercarán al público ripense esta comedia “que no soluciona ninguno
  de los problemas de la actualidad\, pero te meas”. En su formato\, mezc
 lan humor con una mirada crítica a la realidad.\n\nLa cita tendrá lugar 
 en la Sala Marcos Ana del Centro Cultural García Lorca (Plaza de la Const
 itución\, 3\, Rivas).\n\nLa entrada es gratuita\, pero se pedirá una apo
 rtación voluntaria destinada a apoyar a los artistas participantes\, y se
  contará con servicio de bar a cargo del Ateneo.
ATTACH;FMTTYPE=image/jpeg:https://ateneorepublicanorivas.org/wp-content/up
 loads/2026/04/Manual-decadencia.jpeg
CATEGORIES:OBRA DE TEATRO
LOCATION:Sala Marcos Ana. CC García Lorca\, Pl. de la Constitución s/n\, 
 RIVAS VACIAMADRID\, Madrid\, 28523\, Madrid\, España
X-APPLE-STRUCTURED-LOCATION;VALUE=URI;X-ADDRESS=Pl. de la Constitución s/n
 \, RIVAS VACIAMADRID\, Madrid\, 28523\, Madrid\, España;X-APPLE-RADIUS=10
 0;X-TITLE=Sala Marcos Ana. CC García Lorca:geo:0,0
END:VEVENT
BEGIN:VTIMEZONE
TZID:Europe/Madrid
X-LIC-LOCATION:Europe/Madrid
BEGIN:DAYLIGHT
DTSTART:20260329T030000
TZOFFSETFROM:+0100
TZOFFSETTO:+0200
TZNAME:CEST
END:DAYLIGHT
END:VTIMEZONE
END:VCALENDAR