BEGIN:VCALENDAR
VERSION:2.0
PRODID:-//wp-events-plugin.com//7.2.3.1//EN
TZID:Europe/Madrid
X-WR-TIMEZONE:Europe/Madrid
BEGIN:VEVENT
UID:39@ateneorepublicanorivas.org
DTSTART;TZID=Europe/Madrid:20241127T190000
DTEND;TZID=Europe/Madrid:20241127T213000
DTSTAMP:20241122T164052Z
URL:https://ateneorepublicanorivas.org/events/mesa-redonda-la-vivienda-en-
 rivas-el-retroceseo-de-un-derecho/
SUMMARY:MESA REDONDA: LA VIVIENDA EN RIVAS. EL RETROCESO DE UN DERECHO
DESCRIPTION:En el coloquio se abordará la problemática de la vivienda en 
 nuestro municipio y en la Comunidad de Madrid. El coloquio estará moderad
 o por Sara Montero Mínguez (periodista socia del Ateneo).
CATEGORIES:CHARLA-DEBATE
LOCATION:Salón de Actos de la Casa de Asociaciones\, Avda. Armando Rodrigu
 ez Vallina s/n. Covibar\, RIVAS VACIAMADRID\, Comunidad de Madrid\, 28523\
 , España
X-APPLE-STRUCTURED-LOCATION;VALUE=URI;X-ADDRESS=Avda. Armando Rodriguez Val
 lina s/n. Covibar\, RIVAS VACIAMADRID\, Comunidad de Madrid\, 28523\, Espa
 ña;X-APPLE-RADIUS=100;X-TITLE=Salón de Actos de la Casa de Asociaciones:
 geo:0,0
END:VEVENT
BEGIN:VTIMEZONE
TZID:Europe/Madrid
X-LIC-LOCATION:Europe/Madrid
BEGIN:STANDARD
DTSTART:20241027T020000
TZOFFSETFROM:+0200
TZOFFSETTO:+0100
TZNAME:CET
END:STANDARD
END:VTIMEZONE
END:VCALENDAR