BEGIN:VCALENDAR
VERSION:2.0
PRODID:-//wp-events-plugin.com//7.2.3.1//EN
TZID:Europe/Madrid
X-WR-TIMEZONE:Europe/Madrid
BEGIN:VEVENT
UID:38@ateneorepublicanorivas.org
DTSTART;TZID=Europe/Madrid:20241128T200000
DTEND;TZID=Europe/Madrid:20241128T223000
DTSTAMP:20241122T162729Z
URL:https://ateneorepublicanorivas.org/events/micro-abierto-2/
SUMMARY:MICRO ABIERTO
DESCRIPTION:El Ateneo gestionará el bar de la función de Micro Abierto de
  28 de noviembre de 2024\, que se celebrará en la Sala Marcos Ana (CC Gar
 cía Lorca. Pl. de la Constitución s/n. Rivas-Vaciamadrid)
CATEGORIES:Fiesta
LOCATION:Sala Marcos Ana. CC García Lorca.\, Pl. de la Constitución s/n\,
  Rivas Vaciamadrid\, Comunidad de Madrid\, 28523\, España
X-APPLE-STRUCTURED-LOCATION;VALUE=URI;X-ADDRESS=Pl. de la Constitución s/n
 \, Rivas Vaciamadrid\, Comunidad de Madrid\, 28523\, España;X-APPLE-RADIU
 S=100;X-TITLE=Sala Marcos Ana. CC García Lorca.:geo:0,0
END:VEVENT
BEGIN:VTIMEZONE
TZID:Europe/Madrid
X-LIC-LOCATION:Europe/Madrid
BEGIN:STANDARD
DTSTART:20241027T020000
TZOFFSETFROM:+0200
TZOFFSETTO:+0100
TZNAME:CET
END:STANDARD
END:VTIMEZONE
END:VCALENDAR