BEGIN:VCALENDAR
VERSION:2.0
PRODID:-//wp-events-plugin.com//7.2.3.1//EN
TZID:Europe/Madrid
X-WR-TIMEZONE:Europe/Madrid
BEGIN:VEVENT
UID:74@ateneorepublicanorivas.org
DTSTART;TZID=Europe/Madrid:20251127T200000
DTEND;TZID=Europe/Madrid:20251127T220000
DTSTAMP:20251122T085044Z
URL:https://ateneorepublicanorivas.org/events/micro-abierto-27-noviembre-2
 025/
SUMMARY:MICRO ABIERTO 27 NOVIEMBRE 2025
DESCRIPTION:
CATEGORIES:Fiesta
LOCATION:Sala Marcos Ana. CC García Lorca. Pl. de la Constitución.\, Pl. 
 de la Constitución s/n\, RIVAS VACIAMADRID\, Madrid\, 28523\, COMUNIDAD D
 E MADRID\, España
X-APPLE-STRUCTURED-LOCATION;VALUE=URI;X-ADDRESS=Pl. de la Constitución s/n
 \, RIVAS VACIAMADRID\, Madrid\, 28523\, COMUNIDAD DE MADRID\, España;X-AP
 PLE-RADIUS=100;X-TITLE=Sala Marcos Ana. CC García Lorca. Pl. de la Consti
 tución.:geo:0,0
END:VEVENT
BEGIN:VTIMEZONE
TZID:Europe/Madrid
X-LIC-LOCATION:Europe/Madrid
BEGIN:STANDARD
DTSTART:20251026T020000
TZOFFSETFROM:+0200
TZOFFSETTO:+0100
TZNAME:CET
END:STANDARD
END:VTIMEZONE
END:VCALENDAR