BEGIN:VCALENDAR
VERSION:2.0
PRODID:-//wp-events-plugin.com//7.2.3.1//EN
TZID:Europe/Madrid
X-WR-TIMEZONE:Europe/Madrid
BEGIN:VEVENT
UID:28@ateneorepublicanorivas.org
DTSTART;TZID=Europe/Madrid:20240425T194500
DTEND;TZID=Europe/Madrid:20240425T223000
DTSTAMP:20240423T174524Z
URL:https://ateneorepublicanorivas.org/events/micro-abierto-versos-y-canci
 ones-por-la-paz/
SUMMARY:Micro Abierto: 'Versos y canciones por la paz'
DESCRIPTION:
CATEGORIES:Fiesta
END:VEVENT
BEGIN:VTIMEZONE
TZID:Europe/Madrid
X-LIC-LOCATION:Europe/Madrid
BEGIN:DAYLIGHT
DTSTART:20240331T030000
TZOFFSETFROM:+0100
TZOFFSETTO:+0200
TZNAME:CEST
END:DAYLIGHT
END:VTIMEZONE
END:VCALENDAR