BEGIN:VCALENDAR
VERSION:2.0
PRODID:-//wp-events-plugin.com//7.2.3.1//EN
TZID:Europe/Madrid
X-WR-TIMEZONE:Europe/Madrid
BEGIN:VEVENT
UID:54@ateneorepublicanorivas.org
DTSTART;TZID=Europe/Madrid:20250321T190000
DTEND;TZID=Europe/Madrid:20250321T190000
DTSTAMP:20250306T081511Z
URL:https://ateneorepublicanorivas.org/events/obra-de-teatro-las-rapadas-u
 na-tragedia-espanola/
SUMMARY:OBRA DE TEATRO "LAS RAPADAS. UNA TRAGEDIA ESPAÑOLA"
DESCRIPTION:El Ateneo Republicano de Rivas organiza la puesta en escena la 
 obra de teatro "Las rapadas. Una tragedia española" de la compañía Teat
 ro en Defensa de lo Viviente\, cuyo autor y director es Francisco-Gómez P
 orro. 
CATEGORIES:OBRA DE TEATRO
LOCATION:Centro Cultural Federico García Lorca. Salón.\, Pl. de la Consti
 tución\, 3\, RIVAS VACIAMADRID\, Madrid\, 28523\, Madrid\, España
X-APPLE-STRUCTURED-LOCATION;VALUE=URI;X-ADDRESS=Pl. de la Constitución\, 3
 \, RIVAS VACIAMADRID\, Madrid\, 28523\, Madrid\, España;X-APPLE-RADIUS=10
 0;X-TITLE=Centro Cultural Federico García Lorca. Salón.:geo:0,0
END:VEVENT
BEGIN:VTIMEZONE
TZID:Europe/Madrid
X-LIC-LOCATION:Europe/Madrid
BEGIN:STANDARD
DTSTART:20241027T020000
TZOFFSETFROM:+0200
TZOFFSETTO:+0100
TZNAME:CET
END:STANDARD
END:VTIMEZONE
END:VCALENDAR