BEGIN:VCALENDAR
VERSION:2.0
PRODID:-//wp-events-plugin.com//7.2.3.1//EN
TZID:Europe/Madrid
X-WR-TIMEZONE:Europe/Madrid
BEGIN:VEVENT
UID:45@ateneorepublicanorivas.org
DTSTART;TZID=Europe/Madrid:20250123T190000
DTEND;TZID=Europe/Madrid:20250123T210000
DTSTAMP:20250109T093911Z
URL:https://ateneorepublicanorivas.org/events/pablo-elorduy-presentara-su-
 libro-el-el-estado-feroz-el-23-de-enero/
SUMMARY:Pablo Elorduy presentará su libro el 'El Estado feroz' el 23 de en
 ero
DESCRIPTION:Pablo Elorduy\, coordinador de Política del diario El Salto\, 
 presentará en Rivas su libro 'El Estado Feroz'. La cita será el próximo
  23 de enero a las 19 h.\, en el Salón de Actos de la Casa de Asociacione
 s de Rivas (Av. Armando Rodríguez Vallina\, s/n).\n\nElorduy repasa en su
  nuevo ensayo algunos de los acontecimientos políticos más significativo
 s de nuestra historia reciente. Analiza cómo se ha desatado una reacción
  "feroz" del Estado contra aquellos que cuestionaron el sistema neoliberal
  tras la crisis económica\, política y social de 2008. A través de la "
 policía\, la magistratura y el auxilio de diversos medios de comunicació
 n" el periodista sostiene que se ha perseguido a todos aquellos que pedía
 n cambios en el 'status quo'\, desde la llamada "política del cambio" has
 ta el independentismo\, pasando por raperos o humoristas.\n\nEn el evento\
 , habrá un coloquio\, preguntas del público y firma de libros.
ATTACH;FMTTYPE=image/jpeg:https://ateneorepublicanorivas.org/wp-content/up
 loads/2025/01/WhatsApp-Image-2025-01-07-at-16.06.05.jpeg
LOCATION:SALON DE ACTOS DE LA CASA DE ASOCIACIONES\, Avda. Armando Rodrigue
 z Vallina s/n. Covibar\, RIVAS VACIAMADRID\, MADRID\, 28523\, Madrid\, Esp
 aña
X-APPLE-STRUCTURED-LOCATION;VALUE=URI;X-ADDRESS=Avda. Armando Rodriguez Val
 lina s/n. Covibar\, RIVAS VACIAMADRID\, MADRID\, 28523\, Madrid\, España;
 X-APPLE-RADIUS=100;X-TITLE=SALON DE ACTOS DE LA CASA DE ASOCIACIONES:geo:0
 ,0
END:VEVENT
BEGIN:VTIMEZONE
TZID:Europe/Madrid
X-LIC-LOCATION:Europe/Madrid
BEGIN:STANDARD
DTSTART:20241027T020000
TZOFFSETFROM:+0200
TZOFFSETTO:+0100
TZNAME:CET
END:STANDARD
END:VTIMEZONE
END:VCALENDAR