BEGIN:VCALENDAR
VERSION:2.0
PRODID:-//wp-events-plugin.com//7.2.3.1//EN
TZID:Europe/Madrid
X-WR-TIMEZONE:Europe/Madrid
BEGIN:VEVENT
UID:13@ateneorepublicanorivas.org
DTSTART;TZID=Europe/Madrid:20231018T190000
DTEND;TZID=Europe/Madrid:20231018T210000
DTSTAMP:20230922T092432Z
URL:https://ateneorepublicanorivas.org/events/presentacion-de-libro-sobre-
 la-segunda-republica/
SUMMARY:PRESENTACION DE LIBRO SOBRE LA SEGUNDA REPUBLICA
DESCRIPTION:
ATTACH;FMTTYPE=image/jpeg:https://ateneorepublicanorivas.org/wp-content/up
 loads/2023/09/PORTADA-DEL-LIBRO-1.jpg
LOCATION:SALON DE ACTOS DE LA CASA DE ASOCIACIONES\, Avda. Armando Rodrigue
 z Vallina s/n. Covibar\, RIVAS VACIAMADRID\, MADRID\, 28523\, Madrid\, Esp
 aña
X-APPLE-STRUCTURED-LOCATION;VALUE=URI;X-ADDRESS=Avda. Armando Rodriguez Val
 lina s/n. Covibar\, RIVAS VACIAMADRID\, MADRID\, 28523\, Madrid\, España;
 X-APPLE-RADIUS=100;X-TITLE=SALON DE ACTOS DE LA CASA DE ASOCIACIONES:geo:0
 ,0
END:VEVENT
BEGIN:VTIMEZONE
TZID:Europe/Madrid
X-LIC-LOCATION:Europe/Madrid
BEGIN:DAYLIGHT
DTSTART:20230326T030000
TZOFFSETFROM:+0100
TZOFFSETTO:+0200
TZNAME:CEST
END:DAYLIGHT
END:VTIMEZONE
END:VCALENDAR