BEGIN:VCALENDAR
VERSION:2.0
PRODID:-//wp-events-plugin.com//7.2.3.1//EN
TZID:Europe/Madrid
X-WR-TIMEZONE:Europe/Madrid
BEGIN:VEVENT
UID:31@ateneorepublicanorivas.org
DTSTART;TZID=Europe/Madrid:20240605T190000
DTEND;TZID=Europe/Madrid:20240605T213000
DTSTAMP:20240513T120724Z
URL:https://ateneorepublicanorivas.org/events/presentacion-del-libro-cuand
 o-las-sirenas-no-eran-las-nuestras/
SUMMARY:PRESENTACION DEL LIBRO CUANDO LAS SIRENAS NO ERAN LAS NUESTRAS
DESCRIPTION:El Ateneo presenta el libro "Cuando las sirenas no eran las nue
 stras" que nos habla sobre el Cuerpo de Bomberos de Madrid durante la guer
 ra civil española.\n
CATEGORIES:CHARLA-DEBATE,PRESENTACION DEL LIBRO
LOCATION:Salón de Actos de la Casa de Asociaciones\, Avda. Armando Rodrigu
 ez Vallina s/n. Covibar\, RIVAS VACIAMADRID\, España\, 28523\, Comunidad 
 de Madrid\, España
X-APPLE-STRUCTURED-LOCATION;VALUE=URI;X-ADDRESS=Avda. Armando Rodriguez Val
 lina s/n. Covibar\, RIVAS VACIAMADRID\, España\, 28523\, Comunidad de Mad
 rid\, España;X-APPLE-RADIUS=100;X-TITLE=Salón de Actos de la Casa de Aso
 ciaciones:geo:0,0
END:VEVENT
BEGIN:VTIMEZONE
TZID:Europe/Madrid
X-LIC-LOCATION:Europe/Madrid
BEGIN:DAYLIGHT
DTSTART:20240331T030000
TZOFFSETFROM:+0100
TZOFFSETTO:+0200
TZNAME:CEST
END:DAYLIGHT
END:VTIMEZONE
END:VCALENDAR