BEGIN:VCALENDAR
VERSION:2.0
PRODID:-//wp-events-plugin.com//7.2.3.1//EN
TZID:Europe/Madrid
X-WR-TIMEZONE:Europe/Madrid
BEGIN:VEVENT
UID:75@ateneorepublicanorivas.org
DTSTART;TZID=Europe/Madrid:20251204T190000
DTEND;TZID=Europe/Madrid:20251204T213000
DTSTAMP:20251122T085542Z
URL:https://ateneorepublicanorivas.org/events/presentacion-del-libro-por-q
 ue-china-va-ganando-de-p-barragan/
SUMMARY:PRESENTACION DEL LIBRO: Por qué China va ganando de P. Barragán
DESCRIPTION:
CATEGORIES:PRESENTACION DEL LIBRO
LOCATION:SALON DE ACTOS DE LA CASA DE ASOCIACIONES DEL BARRIO OESTE\, Avda.
  Armando Rodriguez Vallina s/n. Covibar\, RIVAS VACIAMADRID\, Madrid\, 285
 23\, COMUNIDAD DE MADRID\, España
X-APPLE-STRUCTURED-LOCATION;VALUE=URI;X-ADDRESS=Avda. Armando Rodriguez Val
 lina s/n. Covibar\, RIVAS VACIAMADRID\, Madrid\, 28523\, COMUNIDAD DE MADR
 ID\, España;X-APPLE-RADIUS=100;X-TITLE=SALON DE ACTOS DE LA CASA DE ASOCI
 ACIONES DEL BARRIO OESTE:geo:0,0
END:VEVENT
BEGIN:VTIMEZONE
TZID:Europe/Madrid
X-LIC-LOCATION:Europe/Madrid
BEGIN:STANDARD
DTSTART:20251026T020000
TZOFFSETFROM:+0200
TZOFFSETTO:+0100
TZNAME:CET
END:STANDARD
END:VTIMEZONE
END:VCALENDAR