BEGIN:VCALENDAR
VERSION:2.0
PRODID:-//wp-events-plugin.com//7.2.3.1//EN
TZID:Europe/Madrid
X-WR-TIMEZONE:Europe/Madrid
BEGIN:VEVENT
UID:25@ateneorepublicanorivas.org
DTSTART;TZID=Europe/Madrid:20240404T190000
DTEND;TZID=Europe/Madrid:20240404T210000
DTSTAMP:20240323T123236Z
URL:https://ateneorepublicanorivas.org/events/presentacion-del-libro-que-f
 ue-el-franquismo/
SUMMARY:PRESENTACION DEL LIBRO ¿QUÉ FUE EL FRANQUISMO?
DESCRIPTION:
CATEGORIES:CHARLA-DEBATE,PRESENTACION DEL LIBRO
LOCATION:Salón de Actos de la Casa de Asociaciones. Avda. Armando Rodrigue
 z Vallina s/n. Covibar. Rivas Vaciamadrid.\, Avda. Armando Rodríguez Vall
 ina s/n. Covibar\, Rivas Vaciamadrid\, Madrid\, 28523\, Eslovenia
X-APPLE-STRUCTURED-LOCATION;VALUE=URI;X-ADDRESS=Avda. Armando Rodríguez Va
 llina s/n. Covibar\, Rivas Vaciamadrid\, Madrid\, 28523\, Eslovenia;X-APPL
 E-RADIUS=100;X-TITLE=Salón de Actos de la Casa de Asociaciones. Avda. Arm
 ando Rodriguez Vallina s/n. Covibar. Rivas Vaciamadrid.:geo:0,0
END:VEVENT
BEGIN:VTIMEZONE
TZID:Europe/Madrid
X-LIC-LOCATION:Europe/Madrid
BEGIN:DAYLIGHT
DTSTART:20240331T030000
TZOFFSETFROM:+0100
TZOFFSETTO:+0200
TZNAME:CEST
END:DAYLIGHT
END:VTIMEZONE
END:VCALENDAR