BEGIN:VCALENDAR
VERSION:2.0
PRODID:-//wp-events-plugin.com//7.2.3.1//EN
TZID:Europe/Madrid
X-WR-TIMEZONE:Europe/Madrid
BEGIN:VEVENT
UID:70@ateneorepublicanorivas.org
DTSTART;TZID=Europe/Madrid:20251106T193000
DTEND;TZID=Europe/Madrid:20251106T210000
DTSTAMP:20251104T071519Z
URL:https://ateneorepublicanorivas.org/events/presentacion-del-libro-un-ab
 orto-8000-pesetas/
SUMMARY:PRESENTACION DEL LIBRO "UN ABORTO\, 8000 PESETAS"
DESCRIPTION:
CATEGORIES:PRESENTACION DEL LIBRO
LOCATION:SALON DE ACTOS DE LA CASA DE ASOCIACIONES\, Avda. Armando Rodrigue
 z Vallina s/n. Covibar\, RIVAS VACIAMADRID\, Borrador\, 28523\, COMUNIDAD 
 DE MADRID\, España
X-APPLE-STRUCTURED-LOCATION;VALUE=URI;X-ADDRESS=Avda. Armando Rodriguez Val
 lina s/n. Covibar\, RIVAS VACIAMADRID\, Borrador\, 28523\, COMUNIDAD DE MA
 DRID\, España;X-APPLE-RADIUS=100;X-TITLE=SALON DE ACTOS DE LA CASA DE ASO
 CIACIONES:geo:0,0
END:VEVENT
BEGIN:VTIMEZONE
TZID:Europe/Madrid
X-LIC-LOCATION:Europe/Madrid
BEGIN:STANDARD
DTSTART:20251026T020000
TZOFFSETFROM:+0200
TZOFFSETTO:+0100
TZNAME:CET
END:STANDARD
END:VTIMEZONE
END:VCALENDAR