BEGIN:VCALENDAR
VERSION:2.0
PRODID:-//wp-events-plugin.com//7.2.3.1//EN
TZID:Europe/Madrid
X-WR-TIMEZONE:Europe/Madrid
BEGIN:VEVENT
UID:58@ateneorepublicanorivas.org
DTSTART;TZID=Europe/Madrid:20250605T190000
DTEND;TZID=Europe/Madrid:20250605T213000
DTSTAMP:20250625T061726Z
URL:https://ateneorepublicanorivas.org/events/presentacion-libros-sobre-el
 -rayo-vallecano/
SUMMARY:PRESENTACION LIBROS SOBRE EL RAYO VALLECANO
DESCRIPTION:Dos escritores\, Alejandro Castellón y Maite Martin\, presenta
 rán sus obras sobre el equipo de fútbol Rayo Vallecano.
ATTACH;FMTTYPE=image/jpeg:https://ateneorepublicanorivas.org/wp-content/up
 loads/2025/06/Cartel_presentacion_libros_Rayo.jpg
CATEGORIES:PRESENTACION DEL LIBRO
LOCATION:CENTRO SOCIAL ARMANDO RODRIGUEZ. COVIBAR\, Avda. Armando Rodriguez
  Vallina s/n. Covibar\, RIVAS VACIAMADRID\, Madrid\, 28523\, Comunidad de 
 Madrid\, España
X-APPLE-STRUCTURED-LOCATION;VALUE=URI;X-ADDRESS=Avda. Armando Rodriguez Val
 lina s/n. Covibar\, RIVAS VACIAMADRID\, Madrid\, 28523\, Comunidad de Madr
 id\, España;X-APPLE-RADIUS=100;X-TITLE=CENTRO SOCIAL ARMANDO RODRIGUEZ. C
 OVIBAR:geo:0,0
END:VEVENT
BEGIN:VTIMEZONE
TZID:Europe/Madrid
X-LIC-LOCATION:Europe/Madrid
BEGIN:DAYLIGHT
DTSTART:20250330T030000
TZOFFSETFROM:+0100
TZOFFSETTO:+0200
TZNAME:CEST
END:DAYLIGHT
END:VTIMEZONE
END:VCALENDAR