BEGIN:VCALENDAR
VERSION:2.0
PRODID:-//wp-events-plugin.com//7.2.3.1//EN
TZID:Europe/Madrid
X-WR-TIMEZONE:Europe/Madrid
BEGIN:VEVENT
UID:43@ateneorepublicanorivas.org
DTSTART;TZID=Europe/Madrid:20250103T183000
DTEND;TZID=Europe/Madrid:20250103T200000
DTSTAMP:20241222T194619Z
URL:https://ateneorepublicanorivas.org/events/roscon-de-no-reyes-2025-2/
SUMMARY:ROSCON DE NO REYES 2025
DESCRIPTION:
CATEGORIES:Fiesta
LOCATION:sALA 2 DE LA CASA DE ASOCIACIONES (BARRIO OESTE. COVIBAR)\, AVDA. 
 ARMANDO RODRIGUEZ VALLENA S/N.\, RIVAS VACIAMADRID\, MADRID\, 28523\, COMU
 NIDAD DE MADRID\, España
X-APPLE-STRUCTURED-LOCATION;VALUE=URI;X-ADDRESS=AVDA. ARMANDO RODRIGUEZ VAL
 LENA S/N.\, RIVAS VACIAMADRID\, MADRID\, 28523\, COMUNIDAD DE MADRID\, Esp
 aña;X-APPLE-RADIUS=100;X-TITLE=sALA 2 DE LA CASA DE ASOCIACIONES (BARRIO 
 OESTE. COVIBAR):geo:0,0
END:VEVENT
BEGIN:VTIMEZONE
TZID:Europe/Madrid
X-LIC-LOCATION:Europe/Madrid
BEGIN:STANDARD
DTSTART:20241027T020000
TZOFFSETFROM:+0200
TZOFFSETTO:+0100
TZNAME:CET
END:STANDARD
END:VTIMEZONE
END:VCALENDAR