BEGIN:VCALENDAR
VERSION:2.0
PRODID:-//wp-events-plugin.com//7.2.3.1//EN
TZID:Europe/Madrid
X-WR-TIMEZONE:Europe/Madrid
BEGIN:VEVENT
UID:42@ateneorepublicanorivas.org
DTSTART;TZID=Europe/Madrid:20250103T183000
DTEND;TZID=Europe/Madrid:20250103T200000
DTSTAMP:20241222T193939Z
URL:https://ateneorepublicanorivas.org/events/roscon-de-no-reyes-2025/
SUMMARY:ROSCÓN DE NO REYES 2025
DESCRIPTION:
CATEGORIES:Fiesta
LOCATION:Sala 2 de la Casa de Asociaciones del barrio oeste (Covibar)\, Avd
 a. Armando Rodriguez Vallina s/n\, RIVAS VACIAMADRID\, 28523\, Comunidad d
 e Madrid\, España
X-APPLE-STRUCTURED-LOCATION;VALUE=URI;X-ADDRESS=Avda. Armando Rodriguez Val
 lina s/n\, RIVAS VACIAMADRID\, 28523\, Comunidad de Madrid\, España;X-APP
 LE-RADIUS=100;X-TITLE=Sala 2 de la Casa de Asociaciones del barrio oeste (
 Covibar):geo:0,0
END:VEVENT
BEGIN:VTIMEZONE
TZID:Europe/Madrid
X-LIC-LOCATION:Europe/Madrid
BEGIN:STANDARD
DTSTART:20241027T020000
TZOFFSETFROM:+0200
TZOFFSETTO:+0100
TZNAME:CET
END:STANDARD
END:VTIMEZONE
END:VCALENDAR