BEGIN:VCALENDAR
VERSION:2.0
PRODID:-//wp-events-plugin.com//7.2.3.1//EN
TZID:Europe/Madrid
X-WR-TIMEZONE:Europe/Madrid
BEGIN:VEVENT
UID:66@ateneorepublicanorivas.org
DTSTART;TZID=Europe/Madrid:20251030T200000
DTEND;TZID=Europe/Madrid:20251030T203000
DTSTAMP:20251012T155113Z
URL:https://ateneorepublicanorivas.org/events/vuelve-micro-abierto/
SUMMARY:¡Vuelve Micro Abierto!
DESCRIPTION:
ATTACH;FMTTYPE=image/jpeg:https://ateneorepublicanorivas.org/wp-content/up
 loads/2025/10/Microabierto.jpeg
CATEGORIES:Fiesta
LOCATION:Sala Marcos Ana. CC García Lorca.\, Pl. de la Constitución s/n\,
  Rivas Vaciamadrid\, Comunidad de Madrid\, 28523\, España
X-APPLE-STRUCTURED-LOCATION;VALUE=URI;X-ADDRESS=Pl. de la Constitución s/n
 \, Rivas Vaciamadrid\, Comunidad de Madrid\, 28523\, España;X-APPLE-RADIU
 S=100;X-TITLE=Sala Marcos Ana. CC García Lorca.:geo:0,0
END:VEVENT
BEGIN:VTIMEZONE
TZID:Europe/Madrid
X-LIC-LOCATION:Europe/Madrid
BEGIN:STANDARD
DTSTART:20251026T020000
TZOFFSETFROM:+0200
TZOFFSETTO:+0100
TZNAME:CET
END:STANDARD
END:VTIMEZONE
END:VCALENDAR